Package: DriverNet Version: 1.48.0 Command: rm -rf DriverNet.buildbin-libdir && mkdir DriverNet.buildbin-libdir && /Users/biocbuild/BBS/utils/build-universal.sh DriverNet_1.48.0.tar.gz /Library/Frameworks/R.framework/Resources/bin/R DriverNet.buildbin-libdir StartedAt: 2025-10-14 13:19:54 -0400 (Tue, 14 Oct 2025) EndedAt: 2025-10-14 13:20:01 -0400 (Tue, 14 Oct 2025) EllapsedTime: 7.1 seconds RetCode: 0 Status: OK PackageFile: DriverNet_1.48.0.tgz PackageFileSize: 1.171 MiB