Package: DriverNet Version: 1.48.0 Command: /home/biocbuild/R/R/bin/R CMD INSTALL DriverNet StartedAt: 2025-10-13 20:14:44 -0000 (Mon, 13 Oct 2025) EndedAt: 2025-10-13 20:15:12 -0000 (Mon, 13 Oct 2025) EllapsedTime: 27.4 seconds RetCode: 0 Status: OK