Package: DriverNet Version: 1.48.0 Command: /home/biocbuild/R/R/bin/R CMD build --keep-empty-dirs --no-resave-data DriverNet StartedAt: 2025-10-14 00:29:28 -0000 (Tue, 14 Oct 2025) EndedAt: 2025-10-14 00:30:11 -0000 (Tue, 14 Oct 2025) EllapsedTime: 43.0 seconds RetCode: 0 Status: OK PackageFile: DriverNet_1.48.0.tar.gz PackageFileSize: 1.109 MiB