Package: DriverNet Version: 1.48.0 Command: rm -rf DriverNet.buildbin-libdir && mkdir DriverNet.buildbin-libdir && /Users/biocbuild/BBS/utils/build-universal.sh DriverNet_1.48.0.tar.gz /Library/Frameworks/R.framework/Resources/bin/R DriverNet.buildbin-libdir StartedAt: 2025-10-15 18:18:37 -0400 (Wed, 15 Oct 2025) EndedAt: 2025-10-15 18:18:42 -0400 (Wed, 15 Oct 2025) EllapsedTime: 4.6 seconds RetCode: 0 Status: OK PackageFile: DriverNet_1.48.0.tgz PackageFileSize: 1.172 MiB