Package: DirichletMultinomial Version: 1.50.0 Command: /home/biocbuild/bbs-3.21-bioc/R/bin/R CMD INSTALL DirichletMultinomial StartedAt: 2025-10-15 15:13:35 -0400 (Wed, 15 Oct 2025) EndedAt: 2025-10-15 15:13:44 -0400 (Wed, 15 Oct 2025) EllapsedTime: 8.8 seconds RetCode: 0 Status: OK