Package: DirichletMultinomial Version: 1.50.0 Command: rm -rf DirichletMultinomial.buildbin-libdir && mkdir DirichletMultinomial.buildbin-libdir && /Users/biocbuild/BBS/utils/build-universal.sh DirichletMultinomial_1.50.0.tar.gz /Library/Frameworks/R.framework/Resources/bin/R DirichletMultinomial.buildbin-libdir StartedAt: 2025-10-15 18:15:46 -0400 (Wed, 15 Oct 2025) EndedAt: 2025-10-15 18:16:00 -0400 (Wed, 15 Oct 2025) EllapsedTime: 13.7 seconds RetCode: 0 Status: OK PackageFile: DirichletMultinomial_1.50.0.tgz PackageFileSize: 1.445 MiB