Package: DifferentialRegulation Version: 2.6.0 Command: /home/biocbuild/bbs-3.21-bioc/R/bin/R CMD INSTALL DifferentialRegulation StartedAt: 2025-10-15 15:33:35 -0400 (Wed, 15 Oct 2025) EndedAt: 2025-10-15 15:34:29 -0400 (Wed, 15 Oct 2025) EllapsedTime: 53.5 seconds RetCode: 0 Status: OK