Package: DifferentialRegulation Version: 2.6.0 Command: /home/biocbuild/R/R/bin/R CMD build --keep-empty-dirs --no-resave-data DifferentialRegulation StartedAt: 2025-10-14 00:21:17 -0000 (Tue, 14 Oct 2025) EndedAt: 2025-10-14 01:01:18 -0000 (Tue, 14 Oct 2025) EllapsedTime: 2400.7 seconds RetCode: None Status: TIMEOUT PackageFile: None PackageFileSize: NA