Package: DiffLogo Version: 2.32.0 Command: /home/biocbuild/bbs-3.21-bioc/R/bin/R CMD INSTALL DiffLogo StartedAt: 2025-10-15 15:02:35 -0400 (Wed, 15 Oct 2025) EndedAt: 2025-10-15 15:02:53 -0400 (Wed, 15 Oct 2025) EllapsedTime: 17.8 seconds RetCode: 0 Status: OK