Package: DiffLogo Version: 2.32.0 Command: /home/biocbuild/bbs-3.21-bioc/R/bin/R CMD build --keep-empty-dirs --no-resave-data DiffLogo StartedAt: 2025-10-15 17:13:33 -0400 (Wed, 15 Oct 2025) EndedAt: 2025-10-15 17:14:15 -0400 (Wed, 15 Oct 2025) EllapsedTime: 42.0 seconds RetCode: 0 Status: OK PackageFile: DiffLogo_2.32.0.tar.gz PackageFileSize: 919.4 KiB