Package: DiffLogo Version: 2.32.0 Command: /home/biocbuild/R/R/bin/R CMD INSTALL DiffLogo StartedAt: 2025-10-13 20:13:23 -0000 (Mon, 13 Oct 2025) EndedAt: 2025-10-13 20:13:46 -0000 (Mon, 13 Oct 2025) EllapsedTime: 23.6 seconds RetCode: 0 Status: OK