Package: DiffLogo Version: 2.32.0 Command: /Library/Frameworks/R.framework/Resources/bin/R CMD INSTALL DiffLogo StartedAt: 2025-10-13 15:09:41 -0400 (Mon, 13 Oct 2025) EndedAt: 2025-10-13 15:09:49 -0400 (Mon, 13 Oct 2025) EllapsedTime: 8.1 seconds RetCode: 0 Status: OK