Package: DiffLogo Version: 2.32.0 Command: /Library/Frameworks/R.framework/Resources/bin/R CMD build --keep-empty-dirs --no-resave-data DiffLogo StartedAt: 2025-10-13 23:20:30 -0400 (Mon, 13 Oct 2025) EndedAt: 2025-10-13 23:21:35 -0400 (Mon, 13 Oct 2025) EllapsedTime: 65.2 seconds RetCode: 0 Status: OK PackageFile: DiffLogo_2.32.0.tar.gz PackageFileSize: 919.7 KiB