Package: DiffBind Version: 3.18.0 Command: /home/biocbuild/bbs-3.21-bioc/R/bin/R CMD INSTALL DiffBind StartedAt: 2025-10-15 15:51:55 -0400 (Wed, 15 Oct 2025) EndedAt: 2025-10-15 15:53:10 -0400 (Wed, 15 Oct 2025) EllapsedTime: 74.4 seconds RetCode: 0 Status: OK