Package: DiffBind Version: 3.18.0 Command: /home/biocbuild/bbs-3.21-bioc/R/bin/R CMD build --keep-empty-dirs --no-resave-data DiffBind StartedAt: 2025-10-15 17:13:14 -0400 (Wed, 15 Oct 2025) EndedAt: 2025-10-15 17:16:44 -0400 (Wed, 15 Oct 2025) EllapsedTime: 209.2 seconds RetCode: 0 Status: OK PackageFile: DiffBind_3.18.0.tar.gz PackageFileSize: 6.483 MiB