Package: DiffBind Version: 3.18.0 Command: /Library/Frameworks/R.framework/Resources/bin/R CMD INSTALL DiffBind StartedAt: 2025-10-13 16:36:05 -0400 (Mon, 13 Oct 2025) EndedAt: 2025-10-13 16:38:51 -0400 (Mon, 13 Oct 2025) EllapsedTime: 165.8 seconds RetCode: 0 Status: OK