Package: DiffBind Version: 3.18.0 Command: rm -rf DiffBind.buildbin-libdir && mkdir DiffBind.buildbin-libdir && /Users/biocbuild/BBS/utils/build-universal.sh DiffBind_3.18.0.tar.gz /Library/Frameworks/R.framework/Resources/bin/R DiffBind.buildbin-libdir StartedAt: 2025-10-14 13:15:55 -0400 (Tue, 14 Oct 2025) EndedAt: 2025-10-14 13:20:30 -0400 (Tue, 14 Oct 2025) EllapsedTime: 275.3 seconds RetCode: 0 Status: OK PackageFile: DiffBind_3.18.0.tgz PackageFileSize: 7.097 MiB