Package: DiffBind Version: 3.18.0 Command: /home/biocbuild/R/R/bin/R CMD INSTALL DiffBind StartedAt: 2025-10-13 21:10:43 -0000 (Mon, 13 Oct 2025) EndedAt: 2025-10-13 21:12:32 -0000 (Mon, 13 Oct 2025) EllapsedTime: 108.3 seconds RetCode: 0 Status: OK