Package: DiffBind Version: 3.18.0 Command: /home/biocbuild/R/R/bin/R CMD build --keep-empty-dirs --no-resave-data DiffBind StartedAt: 2025-10-14 00:21:04 -0000 (Tue, 14 Oct 2025) EndedAt: 2025-10-14 00:26:05 -0000 (Tue, 14 Oct 2025) EllapsedTime: 301.1 seconds RetCode: 0 Status: OK PackageFile: DiffBind_3.18.0.tar.gz PackageFileSize: 6.474 MiB