Package: DiffBind Version: 3.18.0 Command: /Library/Frameworks/R.framework/Resources/bin/R CMD INSTALL DiffBind StartedAt: 2025-10-13 18:05:59 -0400 (Mon, 13 Oct 2025) EndedAt: 2025-10-13 18:07:25 -0400 (Mon, 13 Oct 2025) EllapsedTime: 86.4 seconds RetCode: 0 Status: OK