Package: DiffBind Version: 3.18.0 Command: /Library/Frameworks/R.framework/Resources/bin/R CMD build --keep-empty-dirs --no-resave-data DiffBind StartedAt: 2025-10-13 23:16:25 -0400 (Mon, 13 Oct 2025) EndedAt: 2025-10-13 23:20:30 -0400 (Mon, 13 Oct 2025) EllapsedTime: 245.0 seconds RetCode: 0 Status: OK PackageFile: DiffBind_3.18.0.tar.gz PackageFileSize: 6.484 MiB