Package: DelayedTensor Version: 1.14.0 Command: /home/biocbuild/bbs-3.21-bioc/R/bin/R CMD check --install=check:DelayedTensor.install-out.txt --library=/home/biocbuild/bbs-3.21-bioc/R/site-library --timings DelayedTensor_1.14.0.tar.gz StartedAt: 2025-10-15 22:30:03 -0400 (Wed, 15 Oct 2025) EndedAt: 2025-10-15 22:39:28 -0400 (Wed, 15 Oct 2025) EllapsedTime: 565.7 seconds RetCode: 0 Status: WARNINGS CheckDir: DelayedTensor.Rcheck Warnings: 2