Package: DelayedTensor Version: 1.14.0 Command: rm -rf DelayedTensor.buildbin-libdir && mkdir DelayedTensor.buildbin-libdir && /Users/biocbuild/BBS/utils/build-universal.sh DelayedTensor_1.14.0.tar.gz /Library/Frameworks/R.framework/Resources/bin/R DelayedTensor.buildbin-libdir StartedAt: 2025-10-14 13:14:21 -0400 (Tue, 14 Oct 2025) EndedAt: 2025-10-14 13:15:59 -0400 (Tue, 14 Oct 2025) EllapsedTime: 98.7 seconds RetCode: 0 Status: OK PackageFile: DelayedTensor_1.14.0.tgz PackageFileSize: 3.095 MiB