Package: DelayedTensor Version: 1.14.0 Command: /home/biocbuild/R/R/bin/R CMD INSTALL DelayedTensor StartedAt: 2025-10-13 21:13:56 -0000 (Mon, 13 Oct 2025) EndedAt: 2025-10-13 21:14:33 -0000 (Mon, 13 Oct 2025) EllapsedTime: 37.6 seconds RetCode: 0 Status: OK