Package: DelayedTensor Version: 1.14.0 Command: /Library/Frameworks/R.framework/Resources/bin/R CMD build --keep-empty-dirs --no-resave-data DelayedTensor StartedAt: 2025-10-13 22:59:05 -0400 (Mon, 13 Oct 2025) EndedAt: 2025-10-13 23:02:35 -0400 (Mon, 13 Oct 2025) EllapsedTime: 210.0 seconds RetCode: 0 Status: OK PackageFile: DelayedTensor_1.14.0.tar.gz PackageFileSize: 4.128 MiB