Package: DelayedRandomArray Version: 1.16.0 Command: /home/biocbuild/bbs-3.21-bioc/R/bin/R CMD build --keep-empty-dirs --no-resave-data DelayedRandomArray StartedAt: 2025-10-15 17:09:09 -0400 (Wed, 15 Oct 2025) EndedAt: 2025-10-15 17:09:49 -0400 (Wed, 15 Oct 2025) EllapsedTime: 40.0 seconds RetCode: 0 Status: OK PackageFile: DelayedRandomArray_1.16.0.tar.gz PackageFileSize: 318.8 KiB