Package: DelayedRandomArray Version: 1.16.0 Command: /Library/Frameworks/R.framework/Resources/bin/R CMD INSTALL DelayedRandomArray StartedAt: 2025-10-13 15:30:35 -0400 (Mon, 13 Oct 2025) EndedAt: 2025-10-13 15:31:44 -0400 (Mon, 13 Oct 2025) EllapsedTime: 68.4 seconds RetCode: 0 Status: OK