Package: DelayedMatrixStats Version: 1.30.0 Command: /home/biocbuild/bbs-3.21-bioc/R/bin/R CMD INSTALL DelayedMatrixStats StartedAt: 2025-10-15 15:16:16 -0400 (Wed, 15 Oct 2025) EndedAt: 2025-10-15 15:16:36 -0400 (Wed, 15 Oct 2025) EllapsedTime: 20.4 seconds RetCode: 0 Status: OK