Package: DelayedMatrixStats Version: 1.30.0 Command: /Library/Frameworks/R.framework/Resources/bin/R CMD INSTALL DelayedMatrixStats StartedAt: 2025-10-13 15:44:53 -0400 (Mon, 13 Oct 2025) EndedAt: 2025-10-13 15:45:17 -0400 (Mon, 13 Oct 2025) EllapsedTime: 23.9 seconds RetCode: 0 Status: OK