Package: DelayedDataFrame Version: 1.24.0 Command: /home/biocbuild/bbs-3.21-bioc/R/bin/R CMD INSTALL DelayedDataFrame StartedAt: 2025-10-15 15:22:49 -0400 (Wed, 15 Oct 2025) EndedAt: 2025-10-15 15:23:07 -0400 (Wed, 15 Oct 2025) EllapsedTime: 18.0 seconds RetCode: 0 Status: OK