Package: DelayedDataFrame Version: 1.24.0 Command: /home/biocbuild/bbs-3.21-bioc/R/bin/R CMD check --install=check:DelayedDataFrame.install-out.txt --library=/home/biocbuild/bbs-3.21-bioc/R/site-library --timings DelayedDataFrame_1.24.0.tar.gz StartedAt: 2025-10-15 22:29:38 -0400 (Wed, 15 Oct 2025) EndedAt: 2025-10-15 22:31:47 -0400 (Wed, 15 Oct 2025) EllapsedTime: 129.1 seconds RetCode: 0 Status: OK CheckDir: DelayedDataFrame.Rcheck Warnings: 0