Package: DelayedDataFrame Version: 1.24.0 Command: /Library/Frameworks/R.framework/Resources/bin/R CMD INSTALL DelayedDataFrame StartedAt: 2025-10-13 15:42:46 -0400 (Mon, 13 Oct 2025) EndedAt: 2025-10-13 15:43:28 -0400 (Mon, 13 Oct 2025) EllapsedTime: 41.3 seconds RetCode: 0 Status: OK