Package: DelayedDataFrame Version: 1.24.0 Command: /Library/Frameworks/R.framework/Resources/bin/R CMD check --install=check:DelayedDataFrame.install-out.txt --library=/Library/Frameworks/R.framework/Resources/library --no-vignettes --timings DelayedDataFrame_1.24.0.tar.gz StartedAt: 2025-10-14 02:37:05 -0400 (Tue, 14 Oct 2025) EndedAt: 2025-10-14 02:41:52 -0400 (Tue, 14 Oct 2025) EllapsedTime: 287.2 seconds RetCode: 0 Status: OK CheckDir: DelayedDataFrame.Rcheck Warnings: 0