Package: DelayedDataFrame Version: 1.24.0 Command: /home/biocbuild/R/R/bin/R CMD INSTALL DelayedDataFrame StartedAt: 2025-10-13 20:36:42 -0000 (Mon, 13 Oct 2025) EndedAt: 2025-10-13 20:37:08 -0000 (Mon, 13 Oct 2025) EllapsedTime: 25.8 seconds RetCode: 0 Status: OK