Package: DelayedDataFrame Version: 1.24.0 Command: rm -rf DelayedDataFrame.buildbin-libdir && mkdir DelayedDataFrame.buildbin-libdir && /Users/biocbuild/BBS/utils/build-universal.sh DelayedDataFrame_1.24.0.tar.gz /Library/Frameworks/R.framework/Resources/bin/R DelayedDataFrame.buildbin-libdir StartedAt: 2025-10-15 18:10:49 -0400 (Wed, 15 Oct 2025) EndedAt: 2025-10-15 18:11:14 -0400 (Wed, 15 Oct 2025) EllapsedTime: 24.8 seconds RetCode: 0 Status: OK PackageFile: DelayedDataFrame_1.24.0.tgz PackageFileSize: 918.1 KiB