Package: DelayedArray Version: 0.34.1 Command: /home/biocbuild/R/R/bin/R CMD INSTALL DelayedArray StartedAt: 2025-10-13 20:27:49 -0000 (Mon, 13 Oct 2025) EndedAt: 2025-10-13 20:28:33 -0000 (Mon, 13 Oct 2025) EllapsedTime: 44.0 seconds RetCode: 0 Status: OK