Package: DelayedArray Version: 0.34.1 Command: _R_CHECK_CODETOOLS_PROFILE_="suppressFundefMismatch=TRUE" /home/biocbuild/R/R/bin/R CMD check --install=check:DelayedArray.install-out.txt --library=/home/biocbuild/R/R/site-library --no-vignettes --timings DelayedArray_0.34.1.tar.gz StartedAt: 2025-10-14 08:19:06 -0000 (Tue, 14 Oct 2025) EndedAt: 2025-10-14 08:53:51 -0000 (Tue, 14 Oct 2025) EllapsedTime: 2085.6 seconds RetCode: 0 Status: WARNINGS CheckDir: DelayedArray.Rcheck Warnings: 1