Package: DeepTarget Version: 1.2.0 Command: /home/biocbuild/bbs-3.21-bioc/R/bin/R CMD build --keep-empty-dirs --no-resave-data DeepTarget StartedAt: 2025-10-15 17:07:15 -0400 (Wed, 15 Oct 2025) EndedAt: 2025-10-15 17:08:00 -0400 (Wed, 15 Oct 2025) EllapsedTime: 45.0 seconds RetCode: 0 Status: OK PackageFile: DeepTarget_1.2.0.tar.gz PackageFileSize: 2.75 MiB