Package: DeepTarget Version: 1.2.0 Command: /Library/Frameworks/R.framework/Resources/bin/R CMD INSTALL DeepTarget StartedAt: 2025-10-13 15:56:07 -0400 (Mon, 13 Oct 2025) EndedAt: 2025-10-13 15:56:53 -0400 (Mon, 13 Oct 2025) EllapsedTime: 45.8 seconds RetCode: 0 Status: OK