Package: DeepTarget Version: 1.2.0 Command: rm -rf DeepTarget.buildbin-libdir && mkdir DeepTarget.buildbin-libdir && /Users/biocbuild/BBS/utils/build-universal.sh DeepTarget_1.2.0.tar.gz /Library/Frameworks/R.framework/Resources/bin/R DeepTarget.buildbin-libdir StartedAt: 2025-10-14 13:13:00 -0400 (Tue, 14 Oct 2025) EndedAt: 2025-10-14 13:14:28 -0400 (Tue, 14 Oct 2025) EllapsedTime: 88.0 seconds RetCode: 0 Status: OK PackageFile: DeepTarget_1.2.0.tgz PackageFileSize: 2.837 MiB