Package: DeepTarget Version: 1.2.0 Command: /Library/Frameworks/R.framework/Resources/bin/R CMD build --keep-empty-dirs --no-resave-data DeepTarget StartedAt: 2025-10-13 22:51:44 -0400 (Mon, 13 Oct 2025) EndedAt: 2025-10-13 22:52:36 -0400 (Mon, 13 Oct 2025) EllapsedTime: 51.6 seconds RetCode: 0 Status: OK PackageFile: DeepTarget_1.2.0.tar.gz PackageFileSize: 2.797 MiB