Package: DeepPINCS Version: 1.16.0 Command: /home/biocbuild/bbs-3.21-bioc/R/bin/R CMD INSTALL DeepPINCS StartedAt: 2025-10-15 15:10:50 -0400 (Wed, 15 Oct 2025) EndedAt: 2025-10-15 15:11:07 -0400 (Wed, 15 Oct 2025) EllapsedTime: 16.4 seconds RetCode: 0 Status: OK