Package: DeepPINCS Version: 1.16.0 Command: /home/biocbuild/R/R/bin/R CMD INSTALL DeepPINCS StartedAt: 2025-10-13 20:22:51 -0000 (Mon, 13 Oct 2025) EndedAt: 2025-10-13 20:23:13 -0000 (Mon, 13 Oct 2025) EllapsedTime: 21.4 seconds RetCode: 0 Status: OK