Package: DeepPINCS Version: 1.16.0 Command: rm -rf DeepPINCS.buildbin-libdir && mkdir DeepPINCS.buildbin-libdir && /Users/biocbuild/BBS/utils/build-universal.sh DeepPINCS_1.16.0.tar.gz /Library/Frameworks/R.framework/Resources/bin/R DeepPINCS.buildbin-libdir StartedAt: 2025-10-15 18:09:32 -0400 (Wed, 15 Oct 2025) EndedAt: 2025-10-15 18:09:57 -0400 (Wed, 15 Oct 2025) EllapsedTime: 24.9 seconds RetCode: 0 Status: OK PackageFile: DeepPINCS_1.16.0.tgz PackageFileSize: 2.235 MiB