Package: DeconvoBuddies Version: 1.0.1 Command: /home/biocbuild/R/R/bin/R CMD INSTALL DeconvoBuddies StartedAt: 2025-10-13 21:15:08 -0000 (Mon, 13 Oct 2025) EndedAt: 2025-10-13 21:16:18 -0000 (Mon, 13 Oct 2025) EllapsedTime: 70.1 seconds RetCode: 0 Status: OK