Package: DeconvoBuddies Version: 1.0.1 Command: /home/biocbuild/R/R/bin/R CMD build --keep-empty-dirs --no-resave-data DeconvoBuddies StartedAt: 2025-10-14 00:08:37 -0000 (Tue, 14 Oct 2025) EndedAt: 2025-10-14 00:28:42 -0000 (Tue, 14 Oct 2025) EllapsedTime: 1205.4 seconds RetCode: 0 Status: OK PackageFile: DeconvoBuddies_1.0.1.tar.gz PackageFileSize: 5.867 MiB