Package: DeProViR Version: 1.4.0 Command: /home/biocbuild/R/R/bin/R CMD INSTALL DeProViR StartedAt: 2025-10-13 20:22:38 -0000 (Mon, 13 Oct 2025) EndedAt: 2025-10-13 20:22:56 -0000 (Mon, 13 Oct 2025) EllapsedTime: 18.4 seconds RetCode: 0 Status: OK