Package: DaMiRseq Version: 2.20.0 Command: /home/biocbuild/R/R/bin/R CMD INSTALL DaMiRseq StartedAt: 2025-10-13 21:10:09 -0000 (Mon, 13 Oct 2025) EndedAt: 2025-10-13 21:11:31 -0000 (Mon, 13 Oct 2025) EllapsedTime: 81.7 seconds RetCode: 0 Status: OK