Package: DaMiRseq Version: 2.20.0 Command: /home/biocbuild/R/R/bin/R CMD build --keep-empty-dirs --no-resave-data DaMiRseq StartedAt: 2025-10-14 00:04:53 -0000 (Tue, 14 Oct 2025) EndedAt: 2025-10-14 00:17:25 -0000 (Tue, 14 Oct 2025) EllapsedTime: 752.2 seconds RetCode: 0 Status: OK PackageFile: DaMiRseq_2.20.0.tar.gz PackageFileSize: 4.208 MiB