Package: DSS Version: 2.56.0 Command: rm -rf DSS.buildbin-libdir && mkdir DSS.buildbin-libdir && /Users/biocbuild/BBS/utils/build-universal.sh DSS_2.56.0.tar.gz /Library/Frameworks/R.framework/Resources/bin/R DSS.buildbin-libdir StartedAt: 2025-04-21 22:33:43 -0400 (Mon, 21 Apr 2025) EndedAt: 2025-04-21 22:34:03 -0400 (Mon, 21 Apr 2025) EllapsedTime: 20.5 seconds RetCode: 0 Status: OK PackageFile: DSS_2.56.0.tgz PackageFileSize: 1.602 MiB